BEGIN:VCALENDAR
VERSION:2.0
PRODID:-//eventon.com NONSGML v1.0//EN
CALSCALE:GREGORIAN
METHOD:PUBLISH
BEGIN:VEVENT
UID:69e4cbca56f9e
DTSTAMP:20260419T123418Z
DTSTART:20260322T120000Z
DTEND:20260322T150000Z
LOCATION:
SUMMARY:Sylvie Pant Serger Class
DESCRIPTION:Sylvie Pant Serger ClassSunday\,  March 22 12:00pm – 3:00pmCo
 st: $39.00Instructor: Jennifer Jachowicz This pattern designed for soft kni
 t fabrics and is serger friendly! The pants are high-waist wide-leg pants w
 ith a wide waistband that hits at the belly button. There is a secret pocke
 t on the inside of the waistband.[..]\nhttps://seacoastsewingandquilting.co
 m/events/sylvie-pant-serger-class/
URL:https://seacoastsewingandquilting.com/events/sylvie-pant-serger-class/
END:VEVENT
END:VCALENDAR